Package: RnBeads.mm10 Version: 2.17.0 Command: /home/biocbuild/bbs-3.22-bioc/R/bin/R CMD build --keep-empty-dirs --no-resave-data RnBeads.mm10 StartedAt: 2025-07-08 11:37:54 -0400 (Tue, 08 Jul 2025) EndedAt: 2025-07-08 11:38:05 -0400 (Tue, 08 Jul 2025) EllapsedTime: 10.8 seconds RetCode: 0 Status: OK PackageFile: RnBeads.mm10_2.17.0.tar.gz PackageFileSize: 149.1 MiB