Package: RnBeads.mm10 Version: 2.17.0 Command: /home/biocbuild/bbs-3.22-bioc/R/bin/R CMD INSTALL RnBeads.mm10 StartedAt: 2025-07-08 11:02:38 -0400 (Tue, 08 Jul 2025) EndedAt: 2025-07-08 11:02:47 -0400 (Tue, 08 Jul 2025) EllapsedTime: 8.7 seconds RetCode: 0 Status: OK