Package: RnBeads.mm9 Version: 1.43.0 Command: /home/biocbuild/bbs-3.23-bioc/R/bin/R CMD INSTALL RnBeads.mm9 StartedAt: 2025-11-06 10:58:10 -0500 (Thu, 06 Nov 2025) EndedAt: 2025-11-06 10:58:17 -0500 (Thu, 06 Nov 2025) EllapsedTime: 7.1 seconds RetCode: 0 Status: OK