Package: RnBeads.mm9 Version: 1.41.0 Command: /home/biocbuild/bbs-3.22-bioc/R/bin/R CMD build --keep-empty-dirs --no-resave-data RnBeads.mm9 StartedAt: 2025-07-08 11:37:56 -0400 (Tue, 08 Jul 2025) EndedAt: 2025-07-08 11:38:02 -0400 (Tue, 08 Jul 2025) EllapsedTime: 6.0 seconds RetCode: 0 Status: OK PackageFile: RnBeads.mm9_1.41.0.tar.gz PackageFileSize: 94.41 MiB