Package: RnBeads.rn5 Version: 1.41.0 Command: /home/biocbuild/bbs-3.22-bioc/R/bin/R CMD build --keep-empty-dirs --no-resave-data RnBeads.rn5 StartedAt: 2025-07-10 11:39:17 -0400 (Thu, 10 Jul 2025) EndedAt: 2025-07-10 11:39:24 -0400 (Thu, 10 Jul 2025) EllapsedTime: 7.2 seconds RetCode: 0 Status: OK PackageFile: RnBeads.rn5_1.41.0.tar.gz PackageFileSize: 106.8 MiB