Package: RnBeads.rn5 Version: 1.41.0 Command: /home/biocbuild/bbs-3.22-bioc/R/bin/R CMD INSTALL RnBeads.rn5 StartedAt: 2025-07-10 10:57:58 -0400 (Thu, 10 Jul 2025) EndedAt: 2025-07-10 10:58:06 -0400 (Thu, 10 Jul 2025) EllapsedTime: 8.3 seconds RetCode: 0 Status: OK