Package: RnaSeqSampleSizeData Version: 1.43.0 Command: /home/biocbuild/bbs-3.23-bioc/R/bin/R CMD build --keep-empty-dirs --no-resave-data RnaSeqSampleSizeData StartedAt: 2025-11-04 11:39:17 -0500 (Tue, 04 Nov 2025) EndedAt: 2025-11-04 11:39:23 -0500 (Tue, 04 Nov 2025) EllapsedTime: 6.0 seconds RetCode: 0 Status: OK PackageFile: RnaSeqSampleSizeData_1.43.0.tar.gz PackageFileSize: 6.036 MiB