Package: RnaSeqSampleSizeData Version: 1.41.0 Command: /home/biocbuild/bbs-3.22-bioc/R/bin/R CMD build --keep-empty-dirs --no-resave-data RnaSeqSampleSizeData StartedAt: 2025-07-08 11:37:41 -0400 (Tue, 08 Jul 2025) EndedAt: 2025-07-08 11:37:48 -0400 (Tue, 08 Jul 2025) EllapsedTime: 7.0 seconds RetCode: 0 Status: OK PackageFile: RnaSeqSampleSizeData_1.41.0.tar.gz PackageFileSize: 6.035 MiB