Package: RnaSeqSampleSizeData Version: 1.41.0 Command: /home/biocbuild/bbs-3.22-bioc/R/bin/R CMD INSTALL RnaSeqSampleSizeData StartedAt: 2025-07-08 10:56:43 -0400 (Tue, 08 Jul 2025) EndedAt: 2025-07-08 10:56:45 -0400 (Tue, 08 Jul 2025) EllapsedTime: 2.2 seconds RetCode: 0 Status: OK