Package: SCLCBam Version: 1.41.0 Command: /home/biocbuild/bbs-3.22-bioc/R/bin/R CMD build --keep-empty-dirs --no-resave-data SCLCBam StartedAt: 2025-07-08 11:40:38 -0400 (Tue, 08 Jul 2025) EndedAt: 2025-07-08 11:40:47 -0400 (Tue, 08 Jul 2025) EllapsedTime: 8.9 seconds RetCode: 0 Status: OK PackageFile: SCLCBam_1.41.0.tar.gz PackageFileSize: 57.84 MiB