Package: SFEData Version: 1.13.0 Command: /home/biocbuild/bbs-3.23-bioc/R/bin/R CMD build --keep-empty-dirs --no-resave-data SFEData StartedAt: 2025-11-13 11:43:07 -0500 (Thu, 13 Nov 2025) EndedAt: 2025-11-13 11:43:45 -0500 (Thu, 13 Nov 2025) EllapsedTime: 38.1 seconds RetCode: 0 Status: OK PackageFile: SFEData_1.13.0.tar.gz PackageFileSize: 256.9 KiB