Package: SFEData Version: 1.11.0 Command: /home/biocbuild/bbs-3.22-bioc/R/bin/R CMD build --keep-empty-dirs --no-resave-data SFEData StartedAt: 2025-07-08 11:41:46 -0400 (Tue, 08 Jul 2025) EndedAt: 2025-07-08 11:42:27 -0400 (Tue, 08 Jul 2025) EllapsedTime: 40.7 seconds RetCode: 0 Status: OK PackageFile: SFEData_1.11.0.tar.gz PackageFileSize: 256.9 KiB