Package: SFEData Version: 1.11.0 Command: /home/biocbuild/bbs-3.22-bioc/R/bin/R CMD INSTALL SFEData StartedAt: 2025-07-08 10:56:54 -0400 (Tue, 08 Jul 2025) EndedAt: 2025-07-08 10:57:07 -0400 (Tue, 08 Jul 2025) EllapsedTime: 13.4 seconds RetCode: 0 Status: OK