Package: SNAData Version: 1.55.0 Command: /home/biocbuild/bbs-3.22-bioc/R/bin/R CMD build --keep-empty-dirs --no-resave-data SNAData StartedAt: 2025-07-10 11:43:23 -0400 (Thu, 10 Jul 2025) EndedAt: 2025-07-10 11:43:30 -0400 (Thu, 10 Jul 2025) EllapsedTime: 7.0 seconds RetCode: 0 Status: OK PackageFile: SNAData_1.55.0.tar.gz PackageFileSize: 135 KiB