Package: SNPhoodData Version: 1.39.0 Command: /home/biocbuild/bbs-3.22-bioc/R/bin/R CMD build --keep-empty-dirs --no-resave-data SNPhoodData StartedAt: 2025-07-10 11:43:33 -0400 (Thu, 10 Jul 2025) EndedAt: 2025-07-10 11:43:51 -0400 (Thu, 10 Jul 2025) EllapsedTime: 17.8 seconds RetCode: 0 Status: OK PackageFile: SNPhoodData_1.39.0.tar.gz PackageFileSize: 233.5 MiB