Package: STexampleData Version: 1.19.0 Command: /home/biocbuild/bbs-3.23-bioc/R/bin/R CMD build --keep-empty-dirs --no-resave-data STexampleData StartedAt: 2025-11-04 11:44:15 -0500 (Tue, 04 Nov 2025) EndedAt: 2025-11-04 11:45:53 -0500 (Tue, 04 Nov 2025) EllapsedTime: 98.4 seconds RetCode: 0 Status: OK PackageFile: STexampleData_1.19.0.tar.gz PackageFileSize: 611.3 KiB