Package: STexampleData Version: 1.17.0 Command: /home/biocbuild/bbs-3.22-bioc/R/bin/R CMD INSTALL STexampleData StartedAt: 2025-07-08 10:58:57 -0400 (Tue, 08 Jul 2025) EndedAt: 2025-07-08 10:59:25 -0400 (Tue, 08 Jul 2025) EllapsedTime: 27.9 seconds RetCode: 0 Status: OK