Package: SVM2CRMdata Version: 1.43.0 Command: /home/biocbuild/bbs-3.23-bioc/R/bin/R CMD INSTALL SVM2CRMdata StartedAt: 2025-11-18 10:55:43 -0500 (Tue, 18 Nov 2025) EndedAt: 2025-11-18 10:55:47 -0500 (Tue, 18 Nov 2025) EllapsedTime: 4.2 seconds RetCode: 0 Status: OK