Package: SimBenchData Version: 1.17.0 Command: /home/biocbuild/bbs-3.22-bioc/R/bin/R CMD build --keep-empty-dirs --no-resave-data SimBenchData StartedAt: 2025-07-08 11:42:02 -0400 (Tue, 08 Jul 2025) EndedAt: 2025-07-08 11:42:25 -0400 (Tue, 08 Jul 2025) EllapsedTime: 22.3 seconds RetCode: 0 Status: OK PackageFile: SimBenchData_1.17.0.tar.gz PackageFileSize: 236 KiB