Package: SimBenchData Version: 1.17.0 Command: /home/biocbuild/bbs-3.22-bioc/R/bin/R CMD check --install=check:SimBenchData.install-out.txt --library=/home/biocbuild/bbs-3.22-bioc/R/site-library --timings SimBenchData_1.17.0.tar.gz StartedAt: 2025-07-10 13:02:19 -0400 (Thu, 10 Jul 2025) EndedAt: 2025-07-10 13:03:24 -0400 (Thu, 10 Jul 2025) EllapsedTime: 65.0 seconds RetCode: 0 Status: OK CheckDir: SimBenchData.Rcheck Warnings: 0