Package: SimBenchData Version: 1.17.0 Command: /home/biocbuild/bbs-3.22-bioc/R/bin/R CMD INSTALL SimBenchData StartedAt: 2025-07-08 10:57:36 -0400 (Tue, 08 Jul 2025) EndedAt: 2025-07-08 10:57:49 -0400 (Tue, 08 Jul 2025) EllapsedTime: 13.5 seconds RetCode: 0 Status: OK