Package: Single.mTEC.Transcriptomes Version: 1.37.0 Command: /home/biocbuild/bbs-3.22-bioc/R/bin/R CMD build --keep-empty-dirs --no-resave-data Single.mTEC.Transcriptomes StartedAt: 2025-07-08 11:42:17 -0400 (Tue, 08 Jul 2025) EndedAt: 2025-07-08 11:46:25 -0400 (Tue, 08 Jul 2025) EllapsedTime: 247.8 seconds RetCode: 1 Status: ERROR PackageFile: None PackageFileSize: NA