Package: Single.mTEC.Transcriptomes Version: 1.37.0 Command: /home/biocbuild/bbs-3.22-bioc/R/bin/R CMD INSTALL Single.mTEC.Transcriptomes StartedAt: 2025-07-08 10:55:53 -0400 (Tue, 08 Jul 2025) EndedAt: 2025-07-08 10:55:59 -0400 (Tue, 08 Jul 2025) EllapsedTime: 5.8 seconds RetCode: 0 Status: OK