Package: SingleCellMultiModal Version: 1.21.3 Maintainer: Marcel Ramos MaintainerEmail: marcel.ramos at roswellpark.org git_url: https://git.bioconductor.org/packages/SingleCellMultiModal git_branch: devel git_last_commit: a2ec4f3 git_last_commit_date: 2025-06-12 12:44:59 -0400 (Thu, 12 Jun 2025)