Package: SingleCellMultiModal Version: 1.23.0 Command: /home/biocbuild/bbs-3.23-bioc/R/bin/R CMD check --install=check:SingleCellMultiModal.install-out.txt --library=/home/biocbuild/bbs-3.23-bioc/R/site-library --timings SingleCellMultiModal_1.23.0.tar.gz StartedAt: 2025-11-13 13:06:46 -0500 (Thu, 13 Nov 2025) EndedAt: 2025-11-13 13:18:17 -0500 (Thu, 13 Nov 2025) EllapsedTime: 691.7 seconds RetCode: 0 Status: OK CheckDir: SingleCellMultiModal.Rcheck Warnings: 0