Package: SingleCellMultiModal Version: 1.21.3 Command: /home/biocbuild/bbs-3.22-bioc/R/bin/R CMD build --keep-empty-dirs --no-resave-data SingleCellMultiModal StartedAt: 2025-07-08 11:42:20 -0400 (Tue, 08 Jul 2025) EndedAt: 2025-07-08 11:48:40 -0400 (Tue, 08 Jul 2025) EllapsedTime: 379.1 seconds RetCode: 0 Status: OK PackageFile: SingleCellMultiModal_1.21.3.tar.gz PackageFileSize: 2.869 MiB