Package: SingleCellMultiModal Version: 1.21.3 Command: /home/biocbuild/bbs-3.22-bioc/R/bin/R CMD check --install=check:SingleCellMultiModal.install-out.txt --library=/home/biocbuild/bbs-3.22-bioc/R/site-library --timings SingleCellMultiModal_1.21.3.tar.gz StartedAt: 2025-07-10 13:02:33 -0400 (Thu, 10 Jul 2025) EndedAt: 2025-07-10 13:13:21 -0400 (Thu, 10 Jul 2025) EllapsedTime: 648.5 seconds RetCode: 0 Status: OK CheckDir: SingleCellMultiModal.Rcheck Warnings: 0