Package: SingleCellMultiModal Version: 1.21.3 Command: /home/biocbuild/bbs-3.22-bioc/R/bin/R CMD INSTALL SingleCellMultiModal StartedAt: 2025-07-08 10:59:10 -0400 (Tue, 08 Jul 2025) EndedAt: 2025-07-08 10:59:40 -0400 (Tue, 08 Jul 2025) EllapsedTime: 30.7 seconds RetCode: 0 Status: OK