Package: SomaticCancerAlterations Version: 1.45.0 Maintainer: Julian Gehring MaintainerEmail: jg-bioc at gmx.com git_url: https://git.bioconductor.org/packages/SomaticCancerAlterations git_branch: devel git_last_commit: 85d74a9 git_last_commit_date: 2025-04-15 09:24:15 -0400 (Tue, 15 Apr 2025)