Package: SomaticCancerAlterations Version: 1.47.0 Command: /home/biocbuild/bbs-3.23-bioc/R/bin/R CMD build --keep-empty-dirs --no-resave-data SomaticCancerAlterations StartedAt: 2025-11-04 11:43:53 -0500 (Tue, 04 Nov 2025) EndedAt: 2025-11-04 11:44:20 -0500 (Tue, 04 Nov 2025) EllapsedTime: 26.7 seconds RetCode: 0 Status: OK PackageFile: SomaticCancerAlterations_1.47.0.tar.gz PackageFileSize: 4.442 MiB