Package: SomaticCancerAlterations Version: 1.47.0 Command: /home/biocbuild/bbs-3.23-bioc/R/bin/R CMD INSTALL SomaticCancerAlterations StartedAt: 2025-11-04 10:58:06 -0500 (Tue, 04 Nov 2025) EndedAt: 2025-11-04 10:58:13 -0500 (Tue, 04 Nov 2025) EllapsedTime: 6.9 seconds RetCode: 0 Status: OK