Package: SomaticCancerAlterations Version: 1.45.0 Command: /home/biocbuild/bbs-3.22-bioc/R/bin/R CMD build --keep-empty-dirs --no-resave-data SomaticCancerAlterations StartedAt: 2025-07-08 11:42:35 -0400 (Tue, 08 Jul 2025) EndedAt: 2025-07-08 11:43:07 -0400 (Tue, 08 Jul 2025) EllapsedTime: 31.9 seconds RetCode: 0 Status: OK PackageFile: SomaticCancerAlterations_1.45.0.tar.gz PackageFileSize: 4.442 MiB