Package: SomaticCancerAlterations Version: 1.45.0 Command: /home/biocbuild/bbs-3.22-bioc/R/bin/R CMD check --install=check:SomaticCancerAlterations.install-out.txt --library=/home/biocbuild/bbs-3.22-bioc/R/site-library --timings SomaticCancerAlterations_1.45.0.tar.gz StartedAt: 2025-07-17 13:06:04 -0400 (Thu, 17 Jul 2025) EndedAt: 2025-07-17 13:07:26 -0400 (Thu, 17 Jul 2025) EllapsedTime: 82.3 seconds RetCode: 0 Status: OK CheckDir: SomaticCancerAlterations.Rcheck Warnings: 0