Package: SomaticCancerAlterations Version: 1.45.0 Command: /home/biocbuild/bbs-3.22-bioc/R/bin/R CMD INSTALL SomaticCancerAlterations StartedAt: 2025-07-08 10:58:01 -0400 (Tue, 08 Jul 2025) EndedAt: 2025-07-08 10:58:09 -0400 (Tue, 08 Jul 2025) EllapsedTime: 8.4 seconds RetCode: 0 Status: OK