Package: SpatialDatasets Version: 1.9.0 Command: /home/biocbuild/bbs-3.23-bioc/R/bin/R CMD build --keep-empty-dirs --no-resave-data SpatialDatasets StartedAt: 2025-10-30 11:39:00 -0400 (Thu, 30 Oct 2025) EndedAt: 2025-10-30 11:57:16 -0400 (Thu, 30 Oct 2025) EllapsedTime: 1095.5 seconds RetCode: 0 Status: OK PackageFile: SpatialDatasets_1.9.0.tar.gz PackageFileSize: 227.8 KiB