Package: SpatialDatasets Version: 1.9.0 Command: /home/biocbuild/bbs-3.23-bioc/R/bin/R CMD check --install=check:SpatialDatasets.install-out.txt --library=/home/biocbuild/bbs-3.23-bioc/R/site-library --timings SpatialDatasets_1.9.0.tar.gz StartedAt: 2025-11-04 12:58:07 -0500 (Tue, 04 Nov 2025) EndedAt: 2025-11-04 13:19:39 -0500 (Tue, 04 Nov 2025) EllapsedTime: 1292.7 seconds RetCode: 0 Status: WARNINGS CheckDir: SpatialDatasets.Rcheck Warnings: 3