Package: SpatialDatasets Version: 1.7.3 Command: /home/biocbuild/bbs-3.22-bioc/R/bin/R CMD build --keep-empty-dirs --no-resave-data SpatialDatasets StartedAt: 2025-07-08 11:42:38 -0400 (Tue, 08 Jul 2025) EndedAt: 2025-07-08 12:00:56 -0400 (Tue, 08 Jul 2025) EllapsedTime: 1098.5 seconds RetCode: 0 Status: OK PackageFile: SpatialDatasets_1.7.3.tar.gz PackageFileSize: 227.8 KiB