Package: SpatialDatasets Version: 1.7.3 Command: /home/biocbuild/bbs-3.22-bioc/R/bin/R CMD check --install=check:SpatialDatasets.install-out.txt --library=/home/biocbuild/bbs-3.22-bioc/R/site-library --timings SpatialDatasets_1.7.3.tar.gz StartedAt: 2025-07-08 13:02:43 -0400 (Tue, 08 Jul 2025) EndedAt: 2025-07-08 13:24:02 -0400 (Tue, 08 Jul 2025) EllapsedTime: 1279.1 seconds RetCode: 0 Status: WARNINGS CheckDir: SpatialDatasets.Rcheck Warnings: 3