Package: SpatialDatasets Version: 1.7.3 Command: /home/biocbuild/bbs-3.22-bioc/R/bin/R CMD INSTALL SpatialDatasets StartedAt: 2025-07-08 10:58:33 -0400 (Tue, 08 Jul 2025) EndedAt: 2025-07-08 10:59:02 -0400 (Tue, 08 Jul 2025) EllapsedTime: 29.4 seconds RetCode: 0 Status: OK