Package: SpikeIn Version: 1.53.0 Command: /home/biocbuild/bbs-3.23-bioc/R/bin/R CMD INSTALL SpikeIn StartedAt: 2025-11-04 10:56:18 -0500 (Tue, 04 Nov 2025) EndedAt: 2025-11-04 10:56:28 -0500 (Tue, 04 Nov 2025) EllapsedTime: 9.4 seconds RetCode: 0 Status: OK