Package: SpikeIn Version: 1.51.0 Command: /home/biocbuild/bbs-3.22-bioc/R/bin/R CMD build --keep-empty-dirs --no-resave-data SpikeIn StartedAt: 2025-07-08 11:42:52 -0400 (Tue, 08 Jul 2025) EndedAt: 2025-07-08 11:43:06 -0400 (Tue, 08 Jul 2025) EllapsedTime: 13.9 seconds RetCode: 0 Status: OK PackageFile: SpikeIn_1.51.0.tar.gz PackageFileSize: 63.05 MiB