Package: SpikeInSubset Version: 1.49.0 Command: /home/biocbuild/bbs-3.22-bioc/R/bin/R CMD check --install=check:SpikeInSubset.install-out.txt --library=/home/biocbuild/bbs-3.22-bioc/R/site-library --timings SpikeInSubset_1.49.0.tar.gz StartedAt: 2025-07-17 13:06:47 -0400 (Thu, 17 Jul 2025) EndedAt: 2025-07-17 13:08:16 -0400 (Thu, 17 Jul 2025) EllapsedTime: 88.5 seconds RetCode: 0 Status: WARNINGS CheckDir: SpikeInSubset.Rcheck Warnings: 3