Package: SpikeInSubset Version: 1.49.0 Command: /home/biocbuild/bbs-3.22-bioc/R/bin/R CMD INSTALL SpikeInSubset StartedAt: 2025-07-08 10:56:20 -0400 (Tue, 08 Jul 2025) EndedAt: 2025-07-08 10:56:27 -0400 (Tue, 08 Jul 2025) EllapsedTime: 7.1 seconds RetCode: 0 Status: OK