Package: SubcellularSpatialData Version: 1.7.0 Command: /home/biocbuild/bbs-3.23-bioc/R/bin/R CMD check --install=check:SubcellularSpatialData.install-out.txt --library=/home/biocbuild/bbs-3.23-bioc/R/site-library --timings SubcellularSpatialData_1.7.0.tar.gz StartedAt: 2025-11-06 13:03:12 -0500 (Thu, 06 Nov 2025) EndedAt: 2025-11-06 13:04:55 -0500 (Thu, 06 Nov 2025) EllapsedTime: 102.6 seconds RetCode: 0 Status: OK CheckDir: SubcellularSpatialData.Rcheck Warnings: 0