Package: SubcellularSpatialData Version: 1.5.0 Command: /home/biocbuild/bbs-3.22-bioc/R/bin/R CMD check --install=check:SubcellularSpatialData.install-out.txt --library=/home/biocbuild/bbs-3.22-bioc/R/site-library --timings SubcellularSpatialData_1.5.0.tar.gz StartedAt: 2025-07-10 13:05:10 -0400 (Thu, 10 Jul 2025) EndedAt: 2025-07-10 13:06:52 -0400 (Thu, 10 Jul 2025) EllapsedTime: 102.7 seconds RetCode: 0 Status: OK CheckDir: SubcellularSpatialData.Rcheck Warnings: 0