Package: SubcellularSpatialData Version: 1.5.0 Command: /home/biocbuild/bbs-3.22-bioc/R/bin/R CMD INSTALL SubcellularSpatialData StartedAt: 2025-07-08 11:02:20 -0400 (Tue, 08 Jul 2025) EndedAt: 2025-07-08 11:02:22 -0400 (Tue, 08 Jul 2025) EllapsedTime: 2.2 seconds RetCode: 0 Status: OK