Package: TCGAMethylation450k Version: 1.45.0 Command: /home/biocbuild/bbs-3.22-bioc/R/bin/R CMD build --keep-empty-dirs --no-resave-data TCGAMethylation450k StartedAt: 2025-07-08 11:44:45 -0400 (Tue, 08 Jul 2025) EndedAt: 2025-07-08 11:45:03 -0400 (Tue, 08 Jul 2025) EllapsedTime: 18.2 seconds RetCode: 0 Status: OK PackageFile: TCGAMethylation450k_1.45.0.tar.gz PackageFileSize: 81.02 MiB