Package: TCGAWorkflowData Version: 1.35.0 Command: /home/biocbuild/bbs-3.23-bioc/R/bin/R CMD build --keep-empty-dirs --no-resave-data TCGAWorkflowData StartedAt: 2025-11-04 11:45:56 -0500 (Tue, 04 Nov 2025) EndedAt: 2025-11-04 11:48:25 -0500 (Tue, 04 Nov 2025) EllapsedTime: 148.9 seconds RetCode: 0 Status: OK PackageFile: TCGAWorkflowData_1.35.0.tar.gz PackageFileSize: 68.83 MiB