Package: TCGAWorkflowData Version: 1.35.0 Command: /home/biocbuild/bbs-3.23-bioc/R/bin/R CMD INSTALL TCGAWorkflowData StartedAt: 2025-11-04 11:04:04 -0500 (Tue, 04 Nov 2025) EndedAt: 2025-11-04 11:05:05 -0500 (Tue, 04 Nov 2025) EllapsedTime: 60.5 seconds RetCode: 0 Status: OK