Package: TCGAWorkflowData Version: 1.33.0 Command: /home/biocbuild/bbs-3.22-bioc/R/bin/R CMD build --keep-empty-dirs --no-resave-data TCGAWorkflowData StartedAt: 2025-07-08 11:44:46 -0400 (Tue, 08 Jul 2025) EndedAt: 2025-07-08 11:47:17 -0400 (Tue, 08 Jul 2025) EllapsedTime: 151.2 seconds RetCode: 0 Status: OK PackageFile: TCGAWorkflowData_1.33.0.tar.gz PackageFileSize: 68.83 MiB